BEGIN:VCALENDAR
VERSION:2.0
PRODID:-//Family Engagement Department - ECPv4.4.5//NONSGML v1.0//EN
CALSCALE:GREGORIAN
METHOD:PUBLISH
X-WR-CALNAME:Family Engagement Department
X-ORIGINAL-URL:https://sdusdfamilies.org
X-WR-CALDESC:Events for Family Engagement Department
BEGIN:VEVENT
DTSTART;TZID=UTC+0:20170525T000000
DTEND;TZID=UTC+0:20170525T000000
DTSTAMP:20260421T230008
CREATED:20170412T035535Z
LAST-MODIFIED:20170412T035535Z
UID:57047-1495670400-1495670400@sdusdfamilies.org
SUMMARY:School Smarts @ Baker
DESCRIPTION:
URL:https://sdusdfamilies.org/calendar-cultural-events/school-smarts-baker-6/
LOCATION:4041 T St.\, San Diego\, CA\, 92113\, United States
END:VEVENT
END:VCALENDAR