BEGIN:VCALENDAR
VERSION:2.0
PRODID:-//Family Engagement Department - ECPv4.4.5//NONSGML v1.0//EN
CALSCALE:GREGORIAN
METHOD:PUBLISH
X-WR-CALNAME:Family Engagement Department
X-ORIGINAL-URL:https://sdusdfamilies.org
X-WR-CALDESC:Events for Family Engagement Department
BEGIN:VEVENT
DTSTART;VALUE=DATE:20170511
DTEND;VALUE=DATE:20170511
DTSTAMP:20260421T155838
CREATED:20170411T100452Z
LAST-MODIFIED:20170411T100452Z
UID:56819-1494460800-1494547199@sdusdfamilies.org
SUMMARY:School Smarts @ Baker ES
DESCRIPTION:
URL:https://sdusdfamilies.org/calendar-cultural-events/school-smarts-baker-es/
LOCATION:4041 T St.\, San Diego\, CA\, 92113\, United States
END:VEVENT
END:VCALENDAR