BEGIN:VCALENDAR
VERSION:2.0
PRODID:-//Family Engagement Department - ECPv4.4.5//NONSGML v1.0//EN
CALSCALE:GREGORIAN
METHOD:PUBLISH
X-WR-CALNAME:Family Engagement Department
X-ORIGINAL-URL:https://sdusdfamilies.org
X-WR-CALDESC:Events for Family Engagement Department
BEGIN:VEVENT
DTSTART;TZID=UTC+0:20170420T080000
DTEND;TZID=UTC+0:20170420T170000
DTSTAMP:20260421T190728
CREATED:20170411T044807Z
LAST-MODIFIED:20170411T044807Z
UID:56603-1492675200-1492707600@sdusdfamilies.org
SUMMARY:School Smarts @ Baker
DESCRIPTION:
URL:https://sdusdfamilies.org/calendar-cultural-events/school-smarts-baker/
LOCATION:4041 T St.\, San Diego\, CA\, 92113\, United States
END:VEVENT
END:VCALENDAR