BEGIN:VCALENDAR
VERSION:2.0
PRODID:-//Family Engagement Department - ECPv4.4.5//NONSGML v1.0//EN
CALSCALE:GREGORIAN
METHOD:PUBLISH
X-WR-CALNAME:Family Engagement Department
X-ORIGINAL-URL:https://sdusdfamilies.org
X-WR-CALDESC:Events for Family Engagement Department
BEGIN:VEVENT
DTSTART;TZID=UTC+0:20170531T173000
DTEND;TZID=UTC+0:20170531T193000
DTSTAMP:20260421T212334
CREATED:20170412T035859Z
LAST-MODIFIED:20170412T035859Z
UID:57066-1496251800-1496259000@sdusdfamilies.org
SUMMARY:School Smarts @ Birney
DESCRIPTION:
URL:https://sdusdfamilies.org/calendar-cultural-events/school-smarts-birney-2/
LOCATION:4345 Campus Ave\, San Diego\, CA\, 92103\, United States
END:VEVENT
END:VCALENDAR