BEGIN:VCALENDAR
VERSION:2.0
PRODID:-//Family Engagement Department - ECPv4.4.5//NONSGML v1.0//EN
CALSCALE:GREGORIAN
METHOD:PUBLISH
X-WR-CALNAME:Family Engagement Department
X-ORIGINAL-URL:https://sdusdfamilies.org
X-WR-CALDESC:Events for Family Engagement Department
BEGIN:VEVENT
DTSTART;TZID=UTC+0:20170419T120000
DTEND;TZID=UTC+0:20170419T140000
DTSTAMP:20260421T191751
CREATED:20170411T043829Z
LAST-MODIFIED:20170411T043916Z
UID:56585-1492603200-1492610400@sdusdfamilies.org
SUMMARY:School Smarts @ Doyle ES
DESCRIPTION:
URL:https://sdusdfamilies.org/calendar-cultural-events/school-smarts-doyle-es/
LOCATION:3950 Berino Ct\, San Diego\, CA\, 92122\, United States
END:VEVENT
END:VCALENDAR