BEGIN:VCALENDAR
VERSION:2.0
PRODID:-//Family Engagement Department - ECPv4.4.5//NONSGML v1.0//EN
CALSCALE:GREGORIAN
METHOD:PUBLISH
X-WR-CALNAME:Family Engagement Department
X-ORIGINAL-URL:https://sdusdfamilies.org
X-WR-CALDESC:Events for Family Engagement Department
BEGIN:VEVENT
DTSTART;VALUE=DATE:20170504
DTEND;VALUE=DATE:20170504
DTSTAMP:20260421T215659
CREATED:20170411T092106Z
LAST-MODIFIED:20170411T092106Z
UID:56747-1493856000-1493942399@sdusdfamilies.org
SUMMARY:School Smarts @ Innovation Middle School
DESCRIPTION:
URL:https://sdusdfamilies.org/calendar-cultural-events/school-smarts-innovation-middle-school/
LOCATION: 5095 Arvinels Ave\, San Diego\, CA\, 92117\, United States
END:VEVENT
END:VCALENDAR