BEGIN:VCALENDAR
VERSION:2.0
PRODID:-//Family Engagement Department - ECPv4.4.5//NONSGML v1.0//EN
CALSCALE:GREGORIAN
METHOD:PUBLISH
X-WR-CALNAME:Family Engagement Department
X-ORIGINAL-URL:https://sdusdfamilies.org
X-WR-CALDESC:Events for Family Engagement Department
BEGIN:VEVENT
DTSTART;TZID=UTC+0:20170426T170000
DTEND;TZID=UTC+0:20170426T190000
DTSTAMP:20260421T200122
CREATED:20170411T050030Z
LAST-MODIFIED:20170411T050030Z
UID:56632-1493226000-1493233200@sdusdfamilies.org
SUMMARY:School Smarts @ Mason ES
DESCRIPTION:
URL:https://sdusdfamilies.org/calendar-cultural-events/school-smarts-mason-es-2/
LOCATION:10340 San Ramon Dr\, San Diego\, CA\, 92126\, United States
END:VEVENT
END:VCALENDAR