BEGIN:VCALENDAR
VERSION:2.0
PRODID:-//Family Engagement Department - ECPv4.4.5//NONSGML v1.0//EN
CALSCALE:GREGORIAN
METHOD:PUBLISH
X-WR-CALNAME:Family Engagement Department
X-ORIGINAL-URL:https://sdusdfamilies.org
X-WR-CALDESC:Events for Family Engagement Department
BEGIN:VEVENT
DTSTART;TZID=UTC+0:20170524T170000
DTEND;TZID=UTC+0:20170524T190000
DTSTAMP:20260421T211021
CREATED:20170412T032932Z
LAST-MODIFIED:20170412T032933Z
UID:56985-1495645200-1495652400@sdusdfamilies.org
SUMMARY:School Smarts @ Mason
DESCRIPTION:
URL:https://sdusdfamilies.org/calendar-cultural-events/school-smarts-mason/
LOCATION:10340 San Ramon Dr\, San Diego\, CA\, 92126\, United States
END:VEVENT
END:VCALENDAR