BEGIN:VCALENDAR
VERSION:2.0
PRODID:-//Family Engagement Department - ECPv4.4.5//NONSGML v1.0//EN
CALSCALE:GREGORIAN
METHOD:PUBLISH
X-WR-CALNAME:Family Engagement Department
X-ORIGINAL-URL:https://sdusdfamilies.org
X-WR-CALDESC:Events for Family Engagement Department
BEGIN:VEVENT
DTSTART;TZID=UTC+0:20170421T090000
DTEND;TZID=UTC+0:20170421T100000
DTSTAMP:20260421T185915
CREATED:20170411T045307Z
LAST-MODIFIED:20170411T045307Z
UID:56614-1492765200-1492768800@sdusdfamilies.org
SUMMARY:School/Home Safety for Parents
DESCRIPTION:
URL:https://sdusdfamilies.org/calendar-cultural-events/schoolhome-safety-for-parents/
LOCATION: 4525 Market St\, San Diego\, CA\, 92102\, United States
END:VEVENT
END:VCALENDAR