BEGIN:VCALENDAR
VERSION:2.0
PRODID:-//Family Engagement Department - ECPv4.4.5//NONSGML v1.0//EN
CALSCALE:GREGORIAN
METHOD:PUBLISH
X-WR-CALNAME:Family Engagement Department
X-ORIGINAL-URL:https://sdusdfamilies.org
X-WR-CALDESC:Events for Family Engagement Department
BEGIN:VEVENT
DTSTART;TZID=UTC+0:20170409T090000
DTEND;TZID=UTC+0:20170409T150000
DTSTAMP:20260421T160520
CREATED:20170328T070718Z
LAST-MODIFIED:20170328T070725Z
UID:56421-1491728400-1491750000@sdusdfamilies.org
SUMMARY:Screen Your Teen... and Follow the Beat of Their Heart
DESCRIPTION:Youth\, ages 12 to 25\, are invited to get a free heart screening on Sunday\, April 9 at University of San Diego's Hahn School of Nursing and Health Science between 9 am and 3 pm.\nThe screening is offered by the Eric Paredes Save A Life Foundation\, which has screened 22\,947 teens for heart abnormalities that put about 1 in 100 students at risk for Sudden Cardiac Arrest - a leading cause of death under 25\, and the #1 killer of student athletes. Heart screenings are not a part of annual checkups or pre-participation sports physicals\, even though most heart conditions have no warning signs or unrecognized symptoms -- which is why Eric's Foundation screens for free.\nRegister at epsavealife.org/register/ and download a screening packet that you will complete and bring to the event. Walk-ins are also accepted after 10 a.m. and paperwork is available onsite if online registration is not possible. Screenings take less than an hour. Parents need not be present for youth who have a signed and completed screening packet.\nStudents wear t-shirt\, sweat pants or sports shorts to the screening. Girls wear a sports bra. Please bring a self-addressed stamped enveloped in which a copy of your child's ECG will be mailed back to you to add to their medical records.\nWe urge you to take advantage of this opportunity to screen your teen.
URL:https://sdusdfamilies.org/calendar-cultural-events/screen-your-teen-and-follow-the-beat-of-their-heart/
LOCATION:5998 Alcalá Park\, San Diego\, CA\, 92110\, United States
END:VEVENT
END:VCALENDAR