BEGIN:VCALENDAR
VERSION:2.0
PRODID:-//Family Engagement Department - ECPv4.4.5//NONSGML v1.0//EN
CALSCALE:GREGORIAN
METHOD:PUBLISH
X-WR-CALNAME:Family Engagement Department
X-ORIGINAL-URL:https://sdusdfamilies.org
X-WR-CALDESC:Events for Family Engagement Department
BEGIN:VEVENT
DTSTART;TZID=UTC+0:20170517T163000
DTEND;TZID=UTC+0:20170517T180000
DTSTAMP:20260421T174231
CREATED:20170325T044554Z
LAST-MODIFIED:20170605T052219Z
UID:56398-1495038600-1495044000@sdusdfamilies.org
SUMMARY:Scripps Ranch Cluster Meeting
DESCRIPTION:Scripps Ranch Cluster Schools\n\n \tDingeman\n \tEB Scripps\n \tJerabek\n \tMarshall MS\n \tMiramar Ranch\n \tScripps Ranch HS\n\n \nScheduled Meetings\n\n\nGenerally the third Wednesday of the month\n\n\n\nDates:\n\n\n\n \tSeptember 21\, 2016\n \tOctober 19\, 2016\n \tNovember 16\, 2016\n \tJanuary 18\, 2017\n \tFebraury 15\, 2017\n \tMarch 15\, 2017\n \tApril 19\, 2017\n \tMay 17\, 2017\n\n\nTime\n4:30-6:00 p.m.\nMeeting Location\nMarshall Middle School\nCommunity Room\n9700 Avenue of Nations\nSan Diego\, CA 92131\nContact Information\nLuis Fregoso\nCo-Chairperson\, Scripps Ranch Schools Committee\n\nJen Marchesini\nCo-Chairperson\, Scripps Ranch Schools Committee\n\n\nWebsite\n\nwww.scrippsranch.org/schools
URL:https://sdusdfamilies.org/calendar-cultural-events/scripps-ranch-cluster-meeting-2/
LOCATION:9700 Avenue of Nations\, San Diego\, CA\, 9213\, United States
END:VEVENT
END:VCALENDAR