BEGIN:VCALENDAR
VERSION:2.0
PRODID:-//Family Engagement Department - ECPv4.4.5//NONSGML v1.0//EN
CALSCALE:GREGORIAN
METHOD:PUBLISH
X-WR-CALNAME:Family Engagement Department
X-ORIGINAL-URL:https://sdusdfamilies.org
X-WR-CALDESC:Events for Family Engagement Department
BEGIN:VEVENT
DTSTART;TZID=UTC+0:20170508T163000
DTEND;TZID=UTC+0:20170508T180000
DTSTAMP:20260421T155838
CREATED:20170325T044720Z
LAST-MODIFIED:20170325T044720Z
UID:56403-1494261000-1494266400@sdusdfamilies.org
SUMMARY:Serra Cluster Meeting
DESCRIPTION:Serra Cluster Schools\n\n \tDe Portola MS\n \tFarb MS\n \tHancock\n \tKumeyaay\n \tMiller\n \tSerra HS\n \tTierrasanta\n \tVista Grande\n\n\n\n> Download Cluster Map\nScheduled Cluster Day\nFirst Monday of each month\nMeeting Dates\n\n \tDecember 5\, 2016\n \tJanuary 9\, 2017\n \tFebruary 6\, 2017\n \tMarch 6\, 2017\n \tApril 3\, 2017\n \tMay 8\, 2017\n \tJune 5\, 2017\n\nTime: 4:30 P.M.- 6:00 P.M.\nLocation:\nSerra High School\n\n5156 Santo Road\n\nSan Diego\, CA 92124
URL:https://sdusdfamilies.org/calendar-cultural-events/serra-cluster-meeting/
LOCATION:5156 Santo Road\, San Diego\, CA\, 92124\, United States
END:VEVENT
END:VCALENDAR