BEGIN:VCALENDAR
VERSION:2.0
PRODID:-//Family Engagement Department - ECPv4.4.5//NONSGML v1.0//EN
CALSCALE:GREGORIAN
METHOD:PUBLISH
X-WR-CALNAME:Family Engagement Department
X-ORIGINAL-URL:https://sdusdfamilies.org
X-WR-CALDESC:Events for Family Engagement Department
BEGIN:VEVENT
DTSTART;TZID=UTC+0:20170523T180000
DTEND;TZID=UTC+0:20170523T193000
DTSTAMP:20260421T160241
CREATED:20170420T042527Z
LAST-MODIFIED:20170420T042527Z
UID:57187-1495562400-1495567800@sdusdfamilies.org
SUMMARY:Sex Trafficking Awareness Presentation & Resource Fair
DESCRIPTION:The Family and Community Engagement Department Hosts:\n\nSex Trafficking Awareness Presentation and Resource Fair\n\nTuesday May 23\, 2017\n\n6:00pm to 7:30pm\n\nHarold J. Ballard Parent Center\n2375 Congress Street\nSan Diego\, CA 92110\n\nAudience: Parents\, Caregivers\, Middle and High School aged Students\, Community Members and District Staff\n\nChildcare\, translation and refreshments provided\n\nFor more information 619-293-4431 Elneda Shannon eshannon@sandi.net or Woodlyn Perez wperez@sandi.net
URL:https://sdusdfamilies.org/calendar-cultural-events/sex-trafficking-awareness-presentation-resource-fair/
LOCATION:2375 Congress Street\, San Diego\, CA\, 92110\, United States
END:VEVENT
END:VCALENDAR