BEGIN:VCALENDAR
VERSION:2.0
PRODID:-//Family Engagement Department - ECPv4.4.5//NONSGML v1.0//EN
CALSCALE:GREGORIAN
METHOD:PUBLISH
X-WR-CALNAME:Family Engagement Department
X-ORIGINAL-URL:https://sdusdfamilies.org
X-WR-CALDESC:Events for Family Engagement Department
BEGIN:VEVENT
DTSTART;TZID=UTC+0:20170424T180000
DTEND;TZID=UTC+0:20170424T200000
DTSTAMP:20260421T180023
CREATED:20170412T031845Z
LAST-MODIFIED:20170425T081424Z
UID:56972-1493056800-1493064000@sdusdfamilies.org
SUMMARY:Special Educaiton Resource Fair
DESCRIPTION:The SDUSD Special Education Division is proud to host the 2017\n\nPost‐High School Resource Fair Parents\, Students and Staff are invited to an evening of learning about options for students with IEPs and 504 plans after high school
URL:https://sdusdfamilies.org/calendar-cultural-events/special-educaiton-resource-fair/
LOCATION:2375 Congress Street\, San Diego\, CA\, 92110\, United States
END:VEVENT
END:VCALENDAR