BEGIN:VCALENDAR
VERSION:2.0
PRODID:-//Family Engagement Department - ECPv4.4.5//NONSGML v1.0//EN
CALSCALE:GREGORIAN
METHOD:PUBLISH
X-WR-CALNAME:Family Engagement Department
X-ORIGINAL-URL:https://sdusdfamilies.org
X-WR-CALDESC:Events for Family Engagement Department
BEGIN:VEVENT
DTSTART;TZID=UTC+0:20170419T000000
DTEND;TZID=UTC+0:20170419T000000
DTSTAMP:20260421T160154
CREATED:20170413T014527Z
LAST-MODIFIED:20170413T014527Z
UID:57144-1492560000-1492560000@sdusdfamilies.org
SUMMARY:The Power of You(th)
DESCRIPTION:Take a stand against underage drinking! Learn strategies to keep yourself and your friends safe (presented by MADD).\n\nContact Anna N. Shayo for more information \n\nashayo@saysandiego.org | 619-362-3758 | cell: 858-829-8629 | Crawford HS Bungalow 5
URL:https://sdusdfamilies.org/calendar-cultural-events/the-power-of-youth/
LOCATION:4191 Colts Way\, San Diego\, CA\, 92115\, United States
ORGANIZER;CN="SAY%20San%20Diego":MAILTO:ashayo@saysandiego.org
END:VEVENT
END:VCALENDAR