BEGIN:VCALENDAR
VERSION:2.0
PRODID:-//Family Engagement Department - ECPv4.4.5//NONSGML v1.0//EN
CALSCALE:GREGORIAN
METHOD:PUBLISH
X-WR-CALNAME:Family Engagement Department
X-ORIGINAL-URL:https://sdusdfamilies.org
X-WR-CALDESC:Events for Family Engagement Department
BEGIN:VEVENT
DTSTART;TZID=UTC+0:20170515T163000
DTEND;TZID=UTC+0:20170515T180000
DTSTAMP:20260421T141003
CREATED:20170325T044922Z
LAST-MODIFIED:20170325T044922Z
UID:56414-1494865800-1494871200@sdusdfamilies.org
SUMMARY:University City Cluster Meeting
DESCRIPTION:Cluster Schools\n\n \tCurie\n \tDoyle\n \tSpreckels\n \tStandley MS\n \tUniversity City HS\n\n\n> Download Cluster Map\nScheduled Meetings\nGenerally the 3rd Monday of the month\n\nMeeting Dates\n\n\n \tSeptember 19\, 2016\n \tOctober 17\, 2016\n \tNovember 14\, 2016 - *Second Monday due to Thanksgiving\n \tJanuary 23\, 2017 - Curie Elementary\, Library\n \tMarch 20\, 2017 - Standley Middle\, Auditorium\n \tMay 15\, 2017 - Spreckels Elementary\, Lounge\n\nTime\n4:30-6:00 p.m.\nLocation\nGenerally\, all meetings are held at University City High School; unless\, a specific site is indicated above.\n\nUniversity City High School\nMedia Center\n6949 Genesee Ave.\nSan Diego\, CA 92122\n\n\nContact Information\n\nPlease direct all correspondence to info@uccluster.com\n\n\nWebsite:\nwww.uccluster.com
URL:https://sdusdfamilies.org/calendar-cultural-events/university-city-cluster-meeting/
LOCATION:6949 Genesee Ave.\, San Diego\, CA\, 92122\, United States
END:VEVENT
END:VCALENDAR